BEGIN:VCALENDAR
VERSION:2.0
PRODID:-//Shirland Welfare Band - ECPv6.15.12.2//NONSGML v1.0//EN
CALSCALE:GREGORIAN
METHOD:PUBLISH
X-WR-CALNAME:Shirland Welfare Band
X-ORIGINAL-URL:https://shirland-welfare-band.co.uk
X-WR-CALDESC:Events for Shirland Welfare Band
REFRESH-INTERVAL;VALUE=DURATION:PT1H
X-Robots-Tag:noindex
X-PUBLISHED-TTL:PT1H
BEGIN:VTIMEZONE
TZID:Europe/London
BEGIN:DAYLIGHT
TZOFFSETFROM:+0000
TZOFFSETTO:+0100
TZNAME:BST
DTSTART:20240331T010000
END:DAYLIGHT
BEGIN:STANDARD
TZOFFSETFROM:+0100
TZOFFSETTO:+0000
TZNAME:GMT
DTSTART:20241027T010000
END:STANDARD
BEGIN:DAYLIGHT
TZOFFSETFROM:+0000
TZOFFSETTO:+0100
TZNAME:BST
DTSTART:20250330T010000
END:DAYLIGHT
BEGIN:STANDARD
TZOFFSETFROM:+0100
TZOFFSETTO:+0000
TZNAME:GMT
DTSTART:20251026T010000
END:STANDARD
BEGIN:DAYLIGHT
TZOFFSETFROM:+0000
TZOFFSETTO:+0100
TZNAME:BST
DTSTART:20260329T010000
END:DAYLIGHT
BEGIN:STANDARD
TZOFFSETFROM:+0100
TZOFFSETTO:+0000
TZNAME:GMT
DTSTART:20261025T010000
END:STANDARD
END:VTIMEZONE
BEGIN:VEVENT
DTSTART;TZID=Europe/London:20251109T100000
DTEND;TZID=Europe/London:20251109T110000
DTSTAMP:20260421T111810
CREATED:20250311T165328Z
LAST-MODIFIED:20250311T165328Z
UID:727-1762682400-1762686000@shirland-welfare-band.co.uk
SUMMARY:Remembrance Service Shirland
DESCRIPTION:
URL:https://shirland-welfare-band.co.uk/event/remembrance-service-shirland/
LOCATION:St Leonards Church Shirland\, Main Road\, Shirland\, DE55 6BB\, United Kingdom
END:VEVENT
BEGIN:VEVENT
DTSTART;TZID=Europe/London:20251109T151500
DTEND;TZID=Europe/London:20251109T170000
DTSTAMP:20260421T111810
CREATED:20250311T165431Z
LAST-MODIFIED:20250311T165431Z
UID:729-1762701300-1762707600@shirland-welfare-band.co.uk
SUMMARY:Remembrance Parade Tupton
DESCRIPTION:
URL:https://shirland-welfare-band.co.uk/event/remembrance-parade-tupton/
END:VEVENT
BEGIN:VEVENT
DTSTART;TZID=Europe/London:20251116T100000
DTEND;TZID=Europe/London:20251116T170000
DTSTAMP:20260421T111810
CREATED:20250821T092414Z
LAST-MODIFIED:20250821T092414Z
UID:837-1763287200-1763312400@shirland-welfare-band.co.uk
SUMMARY:Nembba contest Autumn 2025
DESCRIPTION:
URL:https://shirland-welfare-band.co.uk/event/nembba-contest-autumn-2025/
LOCATION:The Post Mill Centre\, Post Mill Centre\, Market Street\, South Normanton\, DE55 2EJ\, United Kingdom
END:VEVENT
BEGIN:VEVENT
DTSTART;TZID=Europe/London:20251122T170000
DTEND;TZID=Europe/London:20251122T180000
DTSTAMP:20260421T111810
CREATED:20250311T165538Z
LAST-MODIFIED:20250311T165538Z
UID:731-1763830800-1763834400@shirland-welfare-band.co.uk
SUMMARY:Heanor Christmas Lights
DESCRIPTION:
URL:https://shirland-welfare-band.co.uk/event/heanor-christmas-lights-3/
END:VEVENT
BEGIN:VEVENT
DTSTART;TZID=Europe/London:20251128T173000
DTEND;TZID=Europe/London:20251128T180000
DTSTAMP:20260421T111810
CREATED:20250821T092555Z
LAST-MODIFIED:20250821T092555Z
UID:839-1764351000-1764352800@shirland-welfare-band.co.uk
SUMMARY:Shirland Christmas Lights 2025
DESCRIPTION:
URL:https://shirland-welfare-band.co.uk/event/shirland-christmas-lights-2025/
END:VEVENT
BEGIN:VEVENT
DTSTART;TZID=Europe/London:20251128T193000
DTEND;TZID=Europe/London:20251128T223000
DTSTAMP:20260421T111810
CREATED:20250821T092701Z
LAST-MODIFIED:20250821T092701Z
UID:841-1764358200-1764369000@shirland-welfare-band.co.uk
SUMMARY:Tansley Christmas Proms 1st Night
DESCRIPTION:
URL:https://shirland-welfare-band.co.uk/event/tansley-christmas-proms-1st-night/
LOCATION:Tansley Village hall\, Church Street\, Tansley\, Matlock\, DE4 5FH\, United Kingdom
END:VEVENT
BEGIN:VEVENT
DTSTART;TZID=Europe/London:20251129T193000
DTEND;TZID=Europe/London:20251129T223000
DTSTAMP:20260421T111810
CREATED:20250821T092755Z
LAST-MODIFIED:20250821T092755Z
UID:843-1764444600-1764455400@shirland-welfare-band.co.uk
SUMMARY:Tansley Christmas Proms 2nd Night
DESCRIPTION:
URL:https://shirland-welfare-band.co.uk/event/tansley-christmas-proms-2nd-night/
LOCATION:Tansley Village hall\, Church Street\, Tansley\, Matlock\, DE4 5FH\, United Kingdom
END:VEVENT
END:VCALENDAR