BEGIN:VCALENDAR
VERSION:2.0
PRODID:-//Shirland Welfare Band - ECPv6.15.12.2//NONSGML v1.0//EN
CALSCALE:GREGORIAN
METHOD:PUBLISH
X-ORIGINAL-URL:https://shirland-welfare-band.co.uk
X-WR-CALDESC:Events for Shirland Welfare Band
REFRESH-INTERVAL;VALUE=DURATION:PT1H
X-Robots-Tag:noindex
X-PUBLISHED-TTL:PT1H
BEGIN:VTIMEZONE
TZID:Europe/London
BEGIN:DAYLIGHT
TZOFFSETFROM:+0000
TZOFFSETTO:+0100
TZNAME:BST
DTSTART:20240331T010000
END:DAYLIGHT
BEGIN:STANDARD
TZOFFSETFROM:+0100
TZOFFSETTO:+0000
TZNAME:GMT
DTSTART:20241027T010000
END:STANDARD
BEGIN:DAYLIGHT
TZOFFSETFROM:+0000
TZOFFSETTO:+0100
TZNAME:BST
DTSTART:20250330T010000
END:DAYLIGHT
BEGIN:STANDARD
TZOFFSETFROM:+0100
TZOFFSETTO:+0000
TZNAME:GMT
DTSTART:20251026T010000
END:STANDARD
BEGIN:DAYLIGHT
TZOFFSETFROM:+0000
TZOFFSETTO:+0100
TZNAME:BST
DTSTART:20260329T010000
END:DAYLIGHT
BEGIN:STANDARD
TZOFFSETFROM:+0100
TZOFFSETTO:+0000
TZNAME:GMT
DTSTART:20261025T010000
END:STANDARD
END:VTIMEZONE
BEGIN:VEVENT
DTSTART;TZID=Europe/London:20251116T100000
DTEND;TZID=Europe/London:20251116T170000
DTSTAMP:20260421T131024
CREATED:20250821T092414Z
LAST-MODIFIED:20250821T092414Z
UID:837-1763287200-1763312400@shirland-welfare-band.co.uk
SUMMARY:Nembba contest Autumn 2025
DESCRIPTION:
URL:https://shirland-welfare-band.co.uk/event/nembba-contest-autumn-2025/
LOCATION:The Post Mill Centre\, Post Mill Centre\, Market Street\, South Normanton\, DE55 2EJ\, United Kingdom
END:VEVENT
END:VCALENDAR