BEGIN:VCALENDAR
VERSION:2.0
PRODID:-//Shirland Welfare Band - ECPv6.15.12.2//NONSGML v1.0//EN
CALSCALE:GREGORIAN
METHOD:PUBLISH
X-ORIGINAL-URL:https://shirland-welfare-band.co.uk
X-WR-CALDESC:Events for Shirland Welfare Band
REFRESH-INTERVAL;VALUE=DURATION:PT1H
X-Robots-Tag:noindex
X-PUBLISHED-TTL:PT1H
BEGIN:VTIMEZONE
TZID:Europe/London
BEGIN:DAYLIGHT
TZOFFSETFROM:+0000
TZOFFSETTO:+0100
TZNAME:BST
DTSTART:20240331T010000
END:DAYLIGHT
BEGIN:STANDARD
TZOFFSETFROM:+0100
TZOFFSETTO:+0000
TZNAME:GMT
DTSTART:20241027T010000
END:STANDARD
BEGIN:DAYLIGHT
TZOFFSETFROM:+0000
TZOFFSETTO:+0100
TZNAME:BST
DTSTART:20250330T010000
END:DAYLIGHT
BEGIN:STANDARD
TZOFFSETFROM:+0100
TZOFFSETTO:+0000
TZNAME:GMT
DTSTART:20251026T010000
END:STANDARD
BEGIN:DAYLIGHT
TZOFFSETFROM:+0000
TZOFFSETTO:+0100
TZNAME:BST
DTSTART:20260329T010000
END:DAYLIGHT
BEGIN:STANDARD
TZOFFSETFROM:+0100
TZOFFSETTO:+0000
TZNAME:GMT
DTSTART:20261025T010000
END:STANDARD
END:VTIMEZONE
BEGIN:VEVENT
DTSTART;TZID=Europe/London:20251109T100000
DTEND;TZID=Europe/London:20251109T110000
DTSTAMP:20260421T131010
CREATED:20250311T165328Z
LAST-MODIFIED:20250311T165328Z
UID:727-1762682400-1762686000@shirland-welfare-band.co.uk
SUMMARY:Remembrance Service Shirland
DESCRIPTION:
URL:https://shirland-welfare-band.co.uk/event/remembrance-service-shirland/
LOCATION:St Leonards Church Shirland\, Main Road\, Shirland\, DE55 6BB\, United Kingdom
END:VEVENT
BEGIN:VEVENT
DTSTART;TZID=Europe/London:20251109T151500
DTEND;TZID=Europe/London:20251109T170000
DTSTAMP:20260421T131010
CREATED:20250311T165431Z
LAST-MODIFIED:20250311T165431Z
UID:729-1762701300-1762707600@shirland-welfare-band.co.uk
SUMMARY:Remembrance Parade Tupton
DESCRIPTION:
URL:https://shirland-welfare-band.co.uk/event/remembrance-parade-tupton/
END:VEVENT
END:VCALENDAR