BEGIN:VCALENDAR
VERSION:2.0
PRODID:-//Shirland Welfare Band - ECPv6.15.12.2//NONSGML v1.0//EN
CALSCALE:GREGORIAN
METHOD:PUBLISH
X-ORIGINAL-URL:https://shirland-welfare-band.co.uk
X-WR-CALDESC:Events for Shirland Welfare Band
REFRESH-INTERVAL;VALUE=DURATION:PT1H
X-Robots-Tag:noindex
X-PUBLISHED-TTL:PT1H
BEGIN:VTIMEZONE
TZID:Europe/London
BEGIN:DAYLIGHT
TZOFFSETFROM:+0000
TZOFFSETTO:+0100
TZNAME:BST
DTSTART:20230326T010000
END:DAYLIGHT
BEGIN:STANDARD
TZOFFSETFROM:+0100
TZOFFSETTO:+0000
TZNAME:GMT
DTSTART:20231029T010000
END:STANDARD
BEGIN:DAYLIGHT
TZOFFSETFROM:+0000
TZOFFSETTO:+0100
TZNAME:BST
DTSTART:20240331T010000
END:DAYLIGHT
BEGIN:STANDARD
TZOFFSETFROM:+0100
TZOFFSETTO:+0000
TZNAME:GMT
DTSTART:20241027T010000
END:STANDARD
BEGIN:DAYLIGHT
TZOFFSETFROM:+0000
TZOFFSETTO:+0100
TZNAME:BST
DTSTART:20250330T010000
END:DAYLIGHT
BEGIN:STANDARD
TZOFFSETFROM:+0100
TZOFFSETTO:+0000
TZNAME:GMT
DTSTART:20251026T010000
END:STANDARD
END:VTIMEZONE
BEGIN:VEVENT
DTSTART;VALUE=DATE:20240615
DTEND;VALUE=DATE:20240616
DTSTAMP:20260421T112016
CREATED:20240515T164542Z
LAST-MODIFIED:20240515T164655Z
UID:474-1718409600-1718495999@shirland-welfare-band.co.uk
SUMMARY:Bold as Brass Wakefield
DESCRIPTION:The band will again be appearing at the National Coal Mining museum Bold as Brass Entertainments contest \nWe will be hoping to replicate our success at the 2022 event.  \nWe are due to be performing in the Street March at 5.15pm and our Own Choice set is scheduled for 5.30pm \nYou can find out further details and timings for all bands taking part here.
URL:https://shirland-welfare-band.co.uk/event/bold-as-brass-wakefield/
LOCATION:National Coal Mining Museum\, Caphouse Colliery\, New Rd\, Overton\, Wakefield\, Yorkshire\, WF4 4RH\, United Kingdom
END:VEVENT
END:VCALENDAR